
BEGIN:VCALENDAR
VERSION:2.0
PRODID:-//Svensk biblioteksförening//NONSGML kalender //EN
X-WR-CALNAME:Svensk biblioteksförening kalender
X-ORIGINAL-URL:https://biblioteksforeningen.se//?feed=calendar-ical
X-WR-CALDESC:Svensk biblioteksförening kommande händelser
CALSCALE:GREGORIAN
BEGIN:VEVENT
DTSTAMP:20260527T220000Z
DTSTART:20260527T220000Z
DTEND:20260527T220000Z
SUMMARY:Biblioteket, demokratin och de svåra samtalen &#8211; vilka samtal ska få ta plats?
DESCRIPTION:Biblioteket är en av våra viktigaste demokratisk
END:VEVENT
END:VCALENDAR
	