
BEGIN:VCALENDAR
VERSION:2.0
PRODID:-//Svensk biblioteksförening//NONSGML kalender //EN
X-WR-CALNAME:Svensk biblioteksförening kalender
X-ORIGINAL-URL:https://biblioteksforeningen.se//?feed=calendar-ical
X-WR-CALDESC:Svensk biblioteksförening kommande händelser
CALSCALE:GREGORIAN
BEGIN:VEVENT
DTSTAMP:20260504T220000Z
DTSTART:20260504T220000Z
DTEND:20260504T220000Z
SUMMARY:En kväll om framtidens bibliotek
DESCRIPTION:Välkommen till en kväll med Svensk biblioteksfö
END:VEVENT
END:VCALENDAR
	